BEGIN:VCALENDAR
VERSION:2.0
PRODID:-//Squarespace Inc/Squarespace 6//v6//EN
BEGIN:VEVENT
UID:5c34a29b70a6ad0ce7697aae@squarespace.com
DTSTAMP:20190203T134214Z
DTSTART:20190127T030000Z
DTEND:20190127T053000Z
SUMMARY:Conversation practice
END:VEVENT
END:VCALENDAR
