BEGIN:VCALENDAR
VERSION:2.0
PRODID:-//Squarespace Inc/Squarespace 6//v6//EN
BEGIN:VEVENT
UID:5c34a13321c67ce5720d27c6@squarespace.com
DTSTAMP:20190108T131454Z
DTSTART:20190113T030000Z
DTEND:20190113T053000Z
SUMMARY:Conversation practice
END:VEVENT
END:VCALENDAR
