BEGIN:VCALENDAR
VERSION:2.0
PRODID:-//Squarespace Inc/Squarespace 6//v6//EN
BEGIN:VEVENT
UID:5c56efb70d92978c05bbb257@squarespace.com
DTSTAMP:20190203T134552Z
DTSTART:20190210T050000Z
DTEND:20190210T073000Z
SUMMARY:Conversation practice
END:VEVENT
END:VCALENDAR
