BEGIN:VCALENDAR
VERSION:2.0
PRODID:-//Squarespace Inc/Squarespace 6//v6//EN
BEGIN:VEVENT
UID:5c56f0e053450aaf3bc995fa@squarespace.com
DTSTAMP:20190203T134825Z
DTSTART:20190224T050000Z
DTEND:20190224T073000Z
SUMMARY:Conversation practice
END:VEVENT
END:VCALENDAR
