BEGIN:VCALENDAR
VERSION:2.0
PRODID:-//Squarespace Inc/Squarespace 6//v6//EN
BEGIN:VEVENT
UID:5c7544e0c8302559557415a7@squarespace.com
DTSTAMP:20190226T143836Z
DTSTART:20190310T050000Z
DTEND:20190310T073000Z
SUMMARY:Conversation practice
END:VEVENT
END:VCALENDAR
