BEGIN:VCALENDAR
VERSION:2.0
PRODID:-//Squarespace Inc/Squarespace 6//v6//EN
BEGIN:VEVENT
UID:5c754f919140b76e488e18ba@squarespace.com
DTSTAMP:20190226T143959Z
DTSTART:20190324T050000Z
DTEND:20190324T073000Z
SUMMARY:Conversation practice
END:VEVENT
END:VCALENDAR
