BEGIN:VCALENDAR
VERSION:2.0
PRODID:-//Squarespace Inc/Squarespace 6//v6//EN
BEGIN:VEVENT
UID:5c9e2928b208fc61cd39ce02@squarespace.com
DTSTAMP:20190329T143339Z
DTSTART:20190414T030000Z
DTEND:20190414T060000Z
SUMMARY:CHERRY BLOSSOM VIEWING 2019
END:VEVENT
END:VCALENDAR
