BEGIN:VCALENDAR
VERSION:2.0
PRODID:-//Squarespace Inc/Squarespace 6//v6//EN
BEGIN:VEVENT
UID:5c3b160a8a922d1e0747a1e6@squarespace.com
DTSTAMP:20190506T023723Z
DTSTART:20190123T074500Z
DTEND:20190123T083000Z
SUMMARY:Free trial class for new beginners
END:VEVENT
END:VCALENDAR
