BEGIN:VCALENDAR
VERSION:2.0
PRODID:-//Squarespace Inc/Squarespace 6//v6//EN
BEGIN:VEVENT
UID:5ccf9de324a6946263ef4796@squarespace.com
DTSTAMP:20190506T024147Z
DTSTART:20190510T074500Z
DTEND:20190510T083000Z
SUMMARY:Free trial class for new beginners
END:VEVENT
END:VCALENDAR
