BEGIN:VCALENDAR
VERSION:2.0
PRODID:-//Squarespace Inc/Squarespace 6//v6//EN
BEGIN:VEVENT
UID:5cf531f3f385370001598343@squarespace.com
DTSTAMP:20190603T144505Z
DTSTART:20190613T084500Z
DTEND:20190613T093000Z
SUMMARY:Free trial class for new beginners
END:VEVENT
END:VCALENDAR
