BEGIN:VCALENDAR
VERSION:2.0
PRODID:-//Squarespace Inc/Squarespace 6//v6//EN
BEGIN:VEVENT
UID:5d580199480995000143d7cf@squarespace.com
DTSTAMP:20190817T134459Z
DTSTART:20190905T074000Z
DTEND:20190905T090000Z
SUMMARY:JLPT N3 preparation course
END:VEVENT
END:VCALENDAR
