BEGIN:VCALENDAR
VERSION:2.0
PRODID:-//Squarespace Inc/Squarespace 6//v6//EN
BEGIN:VEVENT
UID:5d7bba6c79226020255dd0ca@squarespace.com
DTSTAMP:20191006T011311Z
DTSTART:20191008T064000Z
DTEND:20191011T080000Z
SUMMARY:JLPT N4\, N5 preparation course
END:VEVENT
END:VCALENDAR
