BEGIN:VCALENDAR
VERSION:2.0
PRODID:-//Squarespace Inc/Squarespace 6//v6//EN
BEGIN:VEVENT
UID:5c28ed681ae6cf9b8845c779@squarespace.com
DTSTAMP:20190109T072324Z
DTSTART:20190107T010000Z
DTEND:20190112T080000Z
SUMMARY:New beginner introduction class of January 7th
END:VEVENT
END:VCALENDAR
