BEGIN:VCALENDAR
VERSION:2.0
PRODID:-//Squarespace Inc/Squarespace 6//v6//EN
BEGIN:VEVENT
UID:5c46ee758a922d3a72f81b81@squarespace.com
DTSTAMP:20190226T135449Z
DTSTART:20190211T010000Z
DTEND:20190216T080000Z
SUMMARY:New beginner introduction class of February 11th
END:VEVENT
END:VCALENDAR
