BEGIN:VCALENDAR
VERSION:2.0
PRODID:-//Squarespace Inc/Squarespace 6//v6//EN
BEGIN:VEVENT
UID:5c75452924a6949a1b4b9cfa@squarespace.com
DTSTAMP:20190505T164120Z
DTSTART:20190318T010000Z
DTEND:20190323T080000Z
SUMMARY:New beginner introduction class of March 18th
END:VEVENT
END:VCALENDAR
