BEGIN:VCALENDAR
VERSION:2.0
PRODID:-//Squarespace Inc/Squarespace 6//v6//EN
BEGIN:VEVENT
UID:5ca0c9964785d33d1ae7aab6@squarespace.com
DTSTAMP:20190401T132041Z
DTSTART:20190422T020000Z
DTEND:20190427T090000Z
SUMMARY:New beginner introduction class of April 22nd
END:VEVENT
END:VCALENDAR
