BEGIN:VCALENDAR
VERSION:2.0
PRODID:-//Squarespace Inc/Squarespace 6//v6//EN
BEGIN:VEVENT
UID:5ccf123190e5120001ee0532@squarespace.com
DTSTAMP:20190505T164909Z
DTSTART:20190527T020000Z
DTEND:20190601T090000Z
SUMMARY:New beginner introduction class of May 27th
END:VEVENT
END:VCALENDAR
