BEGIN:VCALENDAR
VERSION:2.0
PRODID:-//Squarespace Inc/Squarespace 6//v6//EN
BEGIN:VEVENT
UID:5d2c10419ee36c0001fb29cd@squarespace.com
DTSTAMP:20190715T054428Z
DTSTART:20190805T020000Z
DTEND:20190810T090000Z
SUMMARY:New beginner introduction class of August 5th
END:VEVENT
END:VCALENDAR
