BEGIN:VCALENDAR
VERSION:2.0
PRODID:-//Squarespace Inc/Squarespace 6//v6//EN
BEGIN:VEVENT
UID:5d5c0bc5b23e0a0001c8f98b@squarespace.com
DTSTAMP:20190820T151101Z
DTSTART:20190909T020000Z
DTEND:20190914T090000Z
SUMMARY:New beginner introduction class of September 9th
END:VEVENT
END:VCALENDAR
