BEGIN:VCALENDAR
VERSION:2.0
PRODID:-//Squarespace Inc/Squarespace 6//v6//EN
BEGIN:VEVENT
UID:5d858ee54f664045942e11b3@squarespace.com
DTSTAMP:20190922T012417Z
DTSTART:20191014T010000Z
DTEND:20191019T080000Z
SUMMARY:New beginner introduction class of October 14th
END:VEVENT
END:VCALENDAR
