BEGIN:VCALENDAR
VERSION:2.0
PRODID:-//Squarespace Inc/Squarespace 6//v6//EN
BEGIN:VEVENT
UID:5db5aa85c853f67fa17caf50@squarespace.com
DTSTAMP:20191028T054054Z
DTSTART:20191118T010000Z
DTEND:20191123T080000Z
SUMMARY:New beginner introduction class of November 18th
END:VEVENT
END:VCALENDAR
