BEGIN:VCALENDAR
VERSION:2.0
PRODID:-//Squarespace Inc/Squarespace 6//v6//EN
BEGIN:VEVENT
UID:5de63b97ae38e010330542ce@squarespace.com
DTSTAMP:20191203T104637Z
DTSTART:20200106T010000Z
DTEND:20200111T080000Z
SUMMARY:New beginner introduction class of January 6th
END:VEVENT
END:VCALENDAR
