BEGIN:VCALENDAR
VERSION:2.0
PRODID:-//Squarespace Inc/Squarespace 6//v6//EN
BEGIN:VEVENT
UID:5e2506ac5dfafe47d387466b@squarespace.com
DTSTAMP:20200120T015357Z
DTSTART:20200210T010000Z
DTEND:20200215T080000Z
SUMMARY:New beginner introduction class of February 10th
END:VEVENT
END:VCALENDAR
