BEGIN:VCALENDAR
VERSION:2.0
PRODID:-//Squarespace Inc/Squarespace 6//v6//EN
BEGIN:VEVENT
UID:5e53e19f976c87268c3ac81e@squarespace.com
DTSTAMP:20200224T145147Z
DTSTART:20200316T010000Z
DTEND:20200321T080000Z
SUMMARY:New beginner introduction class of March 16th
END:VEVENT
END:VCALENDAR
